BEGIN:VCALENDAR
VERSION:2.0
PRODID:-//InvisionCommunity Events 4.7.23//EN
METHOD:PUBLISH
CALSCALE:GREGORIAN
REFRESH-INTERVAL:PT15M
X-PUBLISHED-TTL:PT15M
X-WR-CALNAME:Evènements
NAME:Evènements
BEGIN:VTIMEZONE
TZID:Europe/London
TZURL:http://tzurl.org/zoneinfo/Europe/London
X-LIC-LOCATION:Europe/London
BEGIN:DAYLIGHT
TZOFFSETFROM:+0000
TZOFFSETTO:+0100
TZNAME:BST
DTSTART:20260329T020000Z
RRULE:FREQ=YEARLY;BYMONTH=3;BYDAY=-1SU
END:DAYLIGHT
BEGIN:STANDARD
TZOFFSETFROM:+0100
TZOFFSETTO:+0000
TZNAME:GMT
DTSTART:20261025T020000Z
RRULE:FREQ=YEARLY;BYMONTH=10;BYDAY=-1SU
END:STANDARD
END:VTIMEZONE
BEGIN:VEVENT
SUMMARY:Pick-2-Draft : Strixhaven
DTSTAMP:20260421T153744Z
SEQUENCE:0
UID:102-5-4b5298b0b6a3cb12c36332da54d688bd@goneblin.fr
ORGANIZER;CN="Hirotaro":contact@goneblin.fr
DESCRIPTION:\n	La tête de Xav' est mise à prix! 🤫\n\n
DTSTART:20260424T173000Z
ATTENDEE;CN="Hirotaro";CUTYPE=INDIVIDUAL;PARTSTAT=ACCEPTED:c
	ontact@goneblin.fr
ATTENDEE;CN="Julien M";CUTYPE=INDIVIDUAL;PARTSTAT=ACCEPTED:c
	ontact@goneblin.fr
END:VEVENT
END:VCALENDAR
